BEGIN:VCALENDAR
VERSION:2.0
PRODID:xn--grne-milk-r9a.de
METHOD:PUBLISH
BEGIN:VTIMEZONE
TZID:Europe/Berlin
X-LIC-LOCATION:Europe/Berlin
BEGIN:DAYLIGHT
TZOFFSETFROM:+0100
TZOFFSETTO:+0200
TZNAME:CEST
DTSTART:19700329T020000
RRULE:FREQ=YEARLY;INTERVAL=1;BYDAY=-1SU;BYMONTH=3
END:DAYLIGHT
BEGIN:STANDARD
TZOFFSETFROM:+0200
TZOFFSETTO:+0100
TZNAME:CET
DTSTART:19701025T030000
RRULE:FREQ=YEARLY;INTERVAL=1;BYDAY=-1SU;BYMONTH=10
END:STANDARD
END:VTIMEZONE
BEGIN:VEVENT
UID:d81d4327a40ccd3dd947690be9e23723@xn--grne-milk-r9a.de
URL;VALUE=URI:https://xn--grne-milk-r9a.de/termine/besuch-der-moorschafer
 ei/
LOCATION:Moorschäferei Großes Torfmoor, Westerbruchweg 17, Lübbecke-Ne
 ttelstedt
SUMMARY:Besuch der Moorschäferei
DESCRIPTION;ALTREP="data:text/html,%0A%3Cfigure%20class%3D%22wp-block-ima
 ge%20size-large%22%3E%3Cimg%20src%3D%22https%3A%2F%2Fxn--grne-milk-r9a.de
 %2Fwp-content%2Fuploads%2F2022%2F04%2FMoorschaeferei-800x800.jpg%22%20alt
 %3D%22%22%20class%3D%22wp-image-6389%22%20%2F%3E%3C%2Ffigure%3E%0A%0A%0A%
 3Cp%3E%3Cstrong%3ELandtagskandidat%20%3Cspan%20style%3D%22color%3A%20%233
 4582e%22%3E%3Ca%20style%3D%22color%3A%20%2334582e%22%20href%3D%22http%3A%
 2F%2Fbenjamin-rauer.de%22%20target%3D%22_blank%22%20rel%3D%22noopener%22%
 3EBenjamin%20Rauer%3C%2Fa%3E%3C%2Fspan%3E%20l%C3%A4dt%20zum%20Besuch%20in
 %20die%20Moorsch%C3%A4ferei%20ein%3C%2Fstrong%3E%3C%2Fp%3E%0A%3Cp%3EAlle%
 20Jahre%20wieder%20ist%20es%20eines%20der%20gr%C3%B6%C3%9Ften%20H%C3%B6he
 punkte%20des%20Fr%C3%BChlings%3A%20Die%20Besichtigung%20der%20Moorsch%C3%
 A4ferei%20in%20L%C3%BCbbecke-Nettelstedt.%20Zum%20einen%2C%20weil%20im%20
 Fr%C3%BChling%20dort%20unz%C3%A4hlige%20kleine%20L%C3%A4mmer%20zu%20bewun
 dern%20sind%20und%20zum%20anderen%2C%20weil%20der%20Besuch%20des%20Moorsc
 hutzhofs%20des%20NABU%20stets%20informativ%20ist.%3C%2Fp%3E%0A%3Cp%3E%E2%
 80%9EGro%C3%9F%20und%20Klein%20haben%20bei%20dem%20Besuch%20des%20Moorsch
 utzhofs%20die%20Chance%20mitzuerleben%2C%20wie%20perfekt%20Naturschutz%2C
 %20Tierwohl%20und%20Klimaschutz%20auch%20mit%20Hilfe%20des%20Landes%20mit
 einander%20funktionieren%20k%C3%B6nnen%E2%80%9C%2C%20so%20Benjamin%20Raue
 r%2C%20Landtagskandidat%20f%C3%BCr%20Minden-L%C3%BCbbecke.%20%E2%80%9EDie
 %20Schafe%20und%20L%C3%A4mmer%20sind%20n%C3%A4mlich%20nicht%20nur%20niedl
 ich%2C%20sondern%20sorgen%20gleichzeitig%20auch%20daf%C3%BCr%2C%20dass%20
 unser%20Gro%C3%9Fes%20Torfmoor%20erhalten%20bleibt.%20Durch%20ihre%20Hilf
 e%20wird%20beispielsweise%20die%20Verbuschung%20durch%20Birken%20verhinde
 rt%20und%20die%20moortypische%20Flora%20und%20Fauna%20gesch%C3%BCtzt.%E2%
 80%9C%3C%2Fp%3E%0A%3Cp%3EWie%20genau%20die%20Schafe%20zum%20Schutz%20des%
 20Gro%C3%9Fen%20Torfmoors%20beitragen%20und%20viele%20andere%20Fragen%20v
 on%20Gro%C3%9F%20und%20Klein%2C%20werden%20am%20Samstag%2C%20dem%2023.%20
 April%202022%20um%2011%20Uhr%20in%20der%20Moorsch%C3%A4ferei%20%28Westerb
 ruchweg%2017%2C%2032312%20L%C3%BCbbecke-Nettelstedt%29%20beantwortet.%20W
 ir%20freuen%20uns%20auf%20Ihre%20Teilnahme%21%3C%2Fp%3E":Landtagskandidat
  Benjamin Rauer lädt zum Besuch in die Moorschäferei ein\n\nAlle Jahre 
 wieder ist es eines der größten Höhepunkte des Frühlings: Die Besicht
 igung der Moorschäferei in Lübbecke-Nettelstedt. Zum einen\, weil im Fr
 ühling dort unzählige kleine Lämmer zu bewundern sind und zum anderen\
 , weil der Besuch des Moorschutzhofs des NABU stets informativ ist.\n\n
 „Groß und Klein haben bei dem Besuch des Moorschutzhofs die Chance mit
 zuerleben\, wie perfekt Naturschutz\, Tierwohl und Klimaschutz auch mit H
 ilfe des Landes miteinander funktionieren können“\, so Benjamin Rauer\
 , Landtagskandidat für Minden-Lübbecke. „Die Schafe und Lämmer sind 
 nämlich nicht nur niedlich\, sondern sorgen gleichzeitig auch dafür\, d
 ass unser Großes Torfmoor erhalten bleibt. Durch ihre Hilfe wird beispie
 lsweise die Verbuschung durch Birken verhindert und die moortypische Flor
 a und Fauna geschützt.“\n\nWie genau die Schafe zum Schutz des Großen
  Torfmoors beitragen und viele andere Fragen von Groß und Klein\, werden
  am Samstag\, dem 23. April 2022 um 11 Uhr in der Moorschäferei (Westerb
 ruchweg 17\, 32312 Lübbecke-Nettelstedt) beantwortet. Wir freuen uns auf
  Ihre Teilnahme!
CLASS:PUBLIC
DTSTART;TZID=Europe/Berlin:20220423T110000
DTEND;TZID=Europe/Berlin:20220423T170000
DTSTAMP:20260421T100327
END:VEVENT
END:VCALENDAR